BEGIN:VCALENDAR
VERSION:2.0
PRODID:-//rendezvenyek.klasszis.hu//Klasszis rendezvények
BEGIN:VEVENT
DTSTART:20260513T080000Z
DTEND:20260513T140000Z
DTSTAMP:20260425T123142Z
SUMMARY:Legyél Te is Pénzügyi Junior Klasszis! 
DESCRIPTION:Legyél Te is Pénzügyi Junior Klasszis! Pénzügyi tudatossági verseny gimnáziumoknak. Tudnivalók és link a kvízhez a csapatkapitánynak és felkészítő tanárnak küldött levélben érkezik!
LOCATION:Online + Budapest
UID:bb668ca95563216088b98a62557fa1e26802563f3919ac78ae30533bb9ed422c@klasszis.hu
URL:https://rendezvenyek.klasszis.hu/rendezveny/legyel-te-is-penzugyi-junior-klasszis-
END:VEVENT
END:VCALENDAR