BEGIN:VCALENDAR
VERSION:2.0
PRODID:-//rendezvenyek.klasszis.hu//Klasszis rendezvények
BEGIN:VEVENT
DTSTART:20260127T153000Z
DTEND:20260127T193000Z
DTSTAMP:20260425T125046Z
SUMMARY:Klasszis Befektetői Klub - 2026. január
DESCRIPTION:Klasszis Befektetési Klub - 2026. január 27. -\nCÍM: 2026-os Outlook, Geopolitikai Trendek és Megatrendek\nTovábbi részletek a rendezvenyek.klasszis.hu oldalon
LOCATION:KPMG Irodaház
UID:0fecf9247f3ddc84db8a804fa3065c013baf6b7c2458c2ba2bf56c2e1d42ddd4@klasszis.hu
URL:https://rendezvenyek.klasszis.hu/rendezveny/klasszis-befektetoi-klub--2026-januar
END:VEVENT
END:VCALENDAR